BEGIN:VCALENDAR
VERSION:2.0
BEGIN:VEVENT
URL:https://codeone.oztix.com.au/outlet/event/80d79123-c770-4eb9-bac9-12a64ba9a874
DTSTART:20260919T083000Z
DTEND:20260919T083000Z
SUMMARY:Alex Lloyd
DESCRIPTION:Event details: https://codeone.oztix.com.au/outlet/event/80d79123-c770-4eb9-bac9-12a64ba9a874
LOCATION:Brass Monkey (Cronulla, NSW)
END:VEVENT
END:VCALENDAR