BEGIN:VCALENDAR
VERSION:2.0
BEGIN:VEVENT
URL:https://codeone.oztix.com.au/outlet/event/e8678d07-6d8b-48a8-b835-5e064116565c
DTSTART:20260522T080000Z
DTEND:20260522T080000Z
SUMMARY:Warren Zeiders World Tour 2026
DESCRIPTION:Event details: https://codeone.oztix.com.au/outlet/event/e8678d07-6d8b-48a8-b835-5e064116565c
LOCATION:Great Western Hotel (Rockhampton, QLD)
END:VEVENT
END:VCALENDAR